Workbook
Name Items: #REF!
Name КВСР: [1]список!$D$2:$D$17
Name НаименДолжн: '[1]Штатное расписание'!$B$8:$B$307
Name Организация: OFFSET([1]список!$E$1,MATCH('[1]Данные по учрежд'!$B$2,[1]список!$E$1:$E$65536,0)-1,1,COUNTIF([1]список!$E$1:$E$65536,'[1]Данные по учрежд'!$B$2),1)
Name СубКОСГУ: [1]список!$B$1:$B$17
Name ТипСредств: [1]список!$C$2:$C$8
Name ЭКР: [1]список!$A$2:$A$21

Sheet Ведом
A1: 5) Приложение 5 к Решению изложить в следующей редакции:
A2: "Приложение 5
A3: к решению Собрания представителей
A4: муниципального района Клявлинский Самарской области
A5: "О бюджете муниципального района Клявлинский Самарской области
A6: на 2025 год и плановый период 2026 и 2027 годов"
A8: 0 | B8: ЕСЛИ(E7=0;ЕСЛИ(D7=0;ЕСЛИ(C7=0;ИНДЕКС(ГРБС!B$1:B$10;ПОИСКПОЗ(A7;ГРБС!A$1:A$10;0));ИНДЕКС(ФКР!B$1:B$113;ПОИСКПОЗ(ЛЕВСИМВ(ЗНАЧЕН(C7);4);ЛЕВСИМВ(ЗНАЧЕН(ФКР!A$1:A$113);4);0)));ИНДЕКС(КЦСР!B$1:B$1024;ПОИСКПОЗ(ЛЕВСИМВ(ЗНАЧЕН(D7);7);ЛЕВСИМВ(ЗНАЧЕН(КЦСР!A$1:A$1024);7);0)));ИНДЕКС(КВР!B$1:B$150;ПОИСКПОЗ(ЛЕВСИМВ(ЗНАЧЕН(E7);3);ЛЕВСИМВ(ЗНАЧЕН(КВР!A$1:A$150);3);0))) | C8: 0 | D8: 0 | E8: 0 | F8: 0 | G8: 0
A9: Ведомственная структура расходов бюджета муниципального района Клявлинский Самарской области на плановый период 2026-2027 годов
I10: тыс.руб.
A11: код ГРБС | B11: Наименование главного распорядителя средств муниципального бюджета, раздела подраздела, целевой статьи, групп и подгрупп видов расходов | C11: Рз Пр | D11: ЦСР | E11: ВР | F11: Сумма, тыс. руб.
F13: 2026 год | H13: 2027 год
F14: Всего | G14: в том числе за счет безвозмезд-ных поступлений имеющие целевое назначение из вышестоящих бюджетов | H14: Всего | I14: в том числе за счет безвозмезд-ных поступлений имеющие целевое назначение из вышестоящих бюджетов
A15: 922 | B15: Муниципальное казенное учреждение "Управление финансами муниципального района Клявлинский Самарской области" | C15: 0 | D15: 0 | E15: 0 | F15: =F16+F30+F46+F52+F59+F65+F42 -> 50633.443 | G15: =G16+G30+G46+G52+G59+G65+G42 -> 310 | H15: =H16+H30+H46+H52+H59+H65+H42 -> 49130.49 | I15: =I16+I30+I46+I52+I59+I65+I42 -> 310
A16: 0 | B16: Функционирование Правительства Российской Федерации, высших исполнительных органов государственной власти субъектов Российской Федерации, местных администраций | C16: 104 | D16: 0 | E16: 0 | F16: =F17 -> 898.193 | G16: 0 | H16: =H17 -> 898.193 | I16: 0
A17: 0 | B17: Муниципальная программа "Управление муниципальными финансами и развитие межбюджетных отношений на 2018-2027 годы" | C17: 104 | D17: 0100000000 | E17: 0 | F17: =F22+F24 -> 898.193 | G17: 0 | H17: =H22+H24 -> 898.193 | I17: 0
A18: 0 | B18: Муниципальная программа "Управление муниципальными финансами и развитие межбюджетных отношений на 2014-2020 годы" | C18: 104 | D18: 0100000000 | E18: 0 | F18: 0 | G18: 0 | H18: 0 | I18: 0
A19: 0 | B19: Расходы на обеспечение выполнения функций органами местного самоуправления | C19: 104 | D19: 0100111000 | E19: 0 | F19: 0 | G19: 0 | H19: 0 | I19: 0
A20: 0 | B20: Расходы на обеспечение выполнения функций органами местного самоуправления | C20: 104 | D20: 0100111000 | E20: 0 | F20: 0 | G20: 0 | H20: 0 | I20: 0
A21: 0 | B21: Расходы на обеспечение выполнения функций органами местного самоуправления | C21: 104 | D21: 0100111000 | E21: 0 | F21: 0 | G21: 0 | H21: 0 | I21: 0
A22: 0 | B22: Расходы на выплаты персоналу в целях обеспечения выполнения функций государственными (муниципальными) органами, казенными учреждениями, органами управления государственными внебюджетными фондами | C22: 104 | D22: 0100000000 | E22: 100 | F22: =F23 -> 898.193 | G22: 0 | H22: =H23 -> 898.193 | I22: 0
A23: 0 | B23: Расходы на выплаты персоналу государственных (муниципальных) органов | C23: 104 | D23: 0100000000 | E23: 120 | F23: 898.193 | H23: 898.193 | I23: 0
A24: 0 | B24: Закупка товаров, работ и услуг для обеспечения государственных (муниципальных) нужд | C24: 104 | D24: 0100000000 | E24: 200 | F24: =F25 -> 0 | G24: 0 | H24: =H25 -> 0 | I24: 0
A25: 0 | B25: Иные закупки товаров, работ и услуг для обеспечения государственных (муниципальных) нужд | C25: 104 | D25: 0100000000 | E25: 240 | I25: 0
A26: 0 | B26: Иные бюджетные ассигнования | C26: 104 | D26: 0100111000 | E26: 800 | F26: 0 | G26: 0 | H26: 0 | I26: 0
A27: 0 | B27: Уплата налогов, сборов и иных платежей | C27: 104 | D27: 0100111000 | E27: 850 | F27: 0 | G27: 0 | H27: 0 | I27: 0
B28: Иные бюджетные ассигнования | C28: 104 | D28: 0100111000 | E28: 800 | F28: =F29 -> 0 | H28: =H29 -> 0
B29: Уплата налогов, сборов и иных платежей | C29: 104 | D29: 0100111000 | E29: 850 | F29: 0 | H29: 0
A30: 0 | B30: Обеспечение деятельности финансовых, налоговых и таможенных органов и органов финансового (финансово-бюджетного) надзора | C30: 106 | D30: 0 | E30: 0 | F30: =F31 -> 15395.461 | G30: 0 | H30: =H31 -> 15395.461 | I30: 0
A31: 0 | B31: Муниципальная программа "Управление муниципальными финансами и развитие межбюджетных отношений на 2018-2027 годы" | C31: 106 | D31: 0100000000 | E31: 0 | F31: =F36+F38+F40 -> 15395.461 | G31: 0 | H31: =H36+H38+H40 -> 15395.461 | I31: 0
A32: 0 | B32: Муниципальная программа "Управление муниципальными финансами и развитие межбюджетных отношений на 2014-2020 годы" | C32: 106 | D32: 0100000000 | E32: 0 | F32: 0 | G32: 0 | H32: 0 | I32: 0
A33: 0 | B33: Расходы на обеспечение выполнения функций органами местного самоуправления | C33: 106 | D33: 0100111000 | E33: 0 | F33: 0 | G33: 0 | H33: 0 | I33: 0
A34: 0 | B34: Расходы на обеспечение выполнения функций органами местного самоуправления | C34: 106 | D34: 0100111000 | E34: 0 | F34: 0 | G34: 0 | H34: 0 | I34: 0
A35: 0 | B35: Расходы на обеспечение выполнения функций органами местного самоуправления | C35: 106 | D35: 0100111000 | E35: 0 | F35: 0 | G35: 0 | H35: 0 | I35: 0
A36: 0 | B36: Расходы на выплаты персоналу в целях обеспечения выполнения функций государственными (муниципальными) органами, казенными учреждениями, органами управления государственными внебюджетными фондами | C36: 106 | D36: 0100000000 | E36: 100 | F36: =F37 -> 14977.344 | G36: 0 | H36: =H37 -> 14977.344 | I36: 0
A37: 0 | B37: Расходы на выплаты персоналу государственных (муниципальных) органов | C37: 106 | D37: 0100000000 | E37: 120 | F37: 14977.344 | H37: 14977.344 | I37: 0
A38: 0 | B38: Закупка товаров, работ и услуг для обеспечения государственных (муниципальных) нужд | C38: 106 | D38: 0100000000 | E38: 200 | F38: =F39 -> 418.117 | G38: 0 | H38: =H39 -> 418.117 | I38: 0
A39: 0 | B39: Иные закупки товаров, работ и услуг для обеспечения государственных (муниципальных) нужд | C39: 106 | D39: 0100000000 | E39: 240 | F39: 418.117 | H39: 418.117 | I39: 0
A40: 0 | B40: Иные бюджетные ассигнования | C40: 106 | D40: 0100000000 | E40: 800 | F40: =F41 -> 0 | G40: 0 | H40: =H41 -> 0 | I40: 0
A41: 0 | B41: Уплата налогов, сборов и иных платежей | C41: 106 | D41: 0100000000 | E41: 850 | I41: 0
B42: Другие общегосударственные вопросы | C42: 113 | F42: =F43 -> 350.603 | G42: =G43 -> 0 | H42: =H43 -> 350.603
...

Sheet Функц
A1: 10) Приложение 16 к Решению изложить в следующей редакции:
A2: "Приложение 16
A3: к решению Собрания представителей
A4: муниципального района Клявлинский Самарской области
A5: "О бюджете муниципального района Клявлинский Самарской области
A6: на 2025 год и плановый период 2026 и 2027 годов"
A8: КВР | B8: ЕСЛИ(C7=0;ЕСЛИ(B7=0;ИНДЕКС(ФКР!B$1:B$113;ПОИСКПОЗ(ЛЕВСИМВ(ЗНАЧЕН(A7);4);ЛЕВСИМВ(ЗНАЧЕН(ФКР!A$1:A$113);4);0));ИНДЕКС(КЦСР!B$1:B$1024;ПОИСКПОЗ(ЛЕВСИМВ(ЗНАЧЕН(B7);7);ЛЕВСИМВ(ЗНАЧЕН(КЦСР!A$1:A$1024);7);0)));ИНДЕКС(КВР!B$1:B$150;ПОИСКПОЗ(ЛЕВСИМВ(ЗНАЧЕН(C7);3);ЛЕВСИМВ(ЗНАЧЕН(КВР!A$1:A$150);3);0))) | C8: 0 | D8: 0
A9: Распределение бюджетных ассигнований по разделам, подразделам классификации расходов бюджетов муниципального района Клявлинский Самарской области на плановый период 2026-2027 годов
A11: Рз Пр | B11: Наименование раздела, подраздела расходов | C11: Сумма, тыс. руб.
C13: 2026 год | E13: 2027 год
C14: Всего | D14: в том числе за счет безвозмезд-ных поступлений имеющие целевое назначение из вышестоящих бюджетов | E14: Всего | F14: в том числе за счет безвозмезд-ных поступлений имеющие целевое назначение из вышестоящих бюджетов
A16: 0100 | B16: ОБЩЕГОСУДАРСТВЕННЫЕ ВОПРОСЫ | C16: =C17+C18+C19+C20+C27+C28 -> 88152.75 | D16: =D17+D18+D19+D20+D27+D28 -> 5866.885 | E16: =E17+E18+E19+E20+E27+E28 -> 88133.099 | F16: =F17+F18+F19+F20+F27+F28 -> 5866.885
A17: 102 | B17: Функционирование высшего должностного лица субъекта Российской Федерации и муниципального образования | C17: =Ведом!F287 -> 3135.607 | D17: 0 | E17: =Ведом!H287 -> 3135.607 | F17: =Ведом!I287 -> 0
A18: 104 | B18: Функционирование Правительства Российской Федерации, высших исполнительных органов государственной власти субъектов Российской Федерации, местных администраций | C18: =Ведом!F16+Ведом!F300 -> 20881.228 | D18: =Ведом!G16+Ведом!G300 -> 1018.387 | E18: =Ведом!H16+Ведом!H300 -> 20885.959 | F18: =Ведом!I16+Ведом!I300 -> 1018.387
A19: 105 | B19: Судебная система | C19: =Ведом!F338 -> 0 | D19: =Ведом!G338 -> 0 | E19: =Ведом!H338 -> 0 | F19: =Ведом!I338 -> 0
A20: 106 | B20: Обеспечение деятельности финансовых, налоговых и таможенных органов и органов финансового (финансово-бюджетного) надзора | C20: =Ведом!F30+Ведом!F565 -> 16916.835 | D20: =Ведом!G30+Ведом!G565 -> 0 | E20: =Ведом!H30+Ведом!H565 -> 16916.835 | F20: =Ведом!I30+Ведом!I565 -> 0
A21: 107 | B21: Обеспечение проведения выборов и референдумов | C21: =C22 -> 0 | E21: =E22 -> 0
A22: 107 | B22: Непрограммные направления расходов местного бюджета | C22: =C25 -> 0 | E22: =E25 -> 0
A23: 107 | B23: Иные направления расходов | C23: =C24 -> 0 | E23: =E24 -> 0
A24: 107 | B24: Проведение выборов в представительные органы муниципального образования | C24: =C25 -> 0 | E24: =E25 -> 0
A25: 107 | B25: Иные бюджетные ассигнования | C25: =C26 -> 0 | E25: =E26 -> 0
A26: 107 | B26: Специальные расходы | C26: =Ведом!F337 -> 0 | E26: =Ведом!H337 -> 0
A27: 111 | B27: Резервные фонды | C27: =Ведом!F343 -> 100 | D27: =Ведом!G343 -> 0 | E27: =Ведом!H343 -> 100 | F27: =Ведом!I343 -> 0
A28: 113 | B28: Другие общегосударственные вопросы | C28: =Ведом!F42+Ведом!F351+Ведом!F72 -> 47119.08 | D28: =Ведом!G42+Ведом!G351+Ведом!G72 -> 4848.498 | E28: =Ведом!H42+Ведом!H351+Ведом!H72 -> 47094.698 | F28: =Ведом!I42+Ведом!I351+Ведом!I72 -> 4848.498
A29: 113 | B29: Непрограммные направления расходов местного бюджета | C29: =C30+C34 -> 0 | D29: =D30+D34 -> 0 | E29: =E30+E34 -> 0 | F29: =F30+F34 -> 0
A30: 113 | B30: Закупка товаров, работ и услуг для муниципальных нужд | C30: =C31 -> 0 | E30: =E31 -> 0
A31: 113 | B31: Реализация функций управления муниципальным образованием общего значения | C31: =C32 -> 0 | E31: =E32 -> 0
A32: 113 | B32: Закупка товаров, работ и услуг для обеспечения государственных (муниципальных) нужд | C32: =C33 -> 0 | E32: =E33 -> 0
A33: 113 | B33: Иные закупки товаров, работ и услуг для обеспечения государственных (муниципальных) нужд | C33: =Ведом!F97+Ведом!F402 -> 0 | E33: =Ведом!H97+Ведом!H402 -> 0
A34: 113 | B34: Иные направления расходов | C34: =C35 -> 0 | D34: =D35 -> 0 | E34: =E35 -> 0 | F34: =F35 -> 0
A35: 113 | B35: Иные бюджетные ассигнования | C35: =C36 -> 0 | D35: =D36 -> 0 | E35: =E36 -> 0 | F35: =F36 -> 0
A36: 113 | B36: Исполнение судебных актов | C36: =Ведом!F398 -> 0 | E36: =Ведом!H398 -> 0
A37: 0400 | B37: НАЦИОНАЛЬНАЯ ЭКОНОМИКА | C37: =C38+C39+C40+C41 -> 32113.783 | D37: =D38+D39+D40+D41 -> 9117.458 | E37: =E38+E39+E40+E41 -> 38759.699 | F37: =F38+F39+F40+F41 -> 9105.154
A38: 405 | B38: Сельское хозяйство и рыболовство | C38: =Ведом!F403 -> 12880.18 | D38: =Ведом!G403 -> 9117.458 | E38: =Ведом!H403 -> 12868.096 | F38: =Ведом!I403 -> 9105.154
A39: 408 | B39: Транспорт | C39: =Ведом!F436 -> 350.603 | D39: =Ведом!G436 -> 0 | E39: =Ведом!H436 -> 350.603 | F39: =Ведом!I436 -> 0
A40: 409 | B40: Дорожное хозяйство (дорожные фонды) | C40: =Ведом!F98 -> 18838 | D40: =Ведом!G98 -> 0 | E40: =Ведом!H98 -> 25496 | F40: =Ведом!I98 -> 0
A41: 412 | B41: Другие вопросы в области национальной экономики | C41: =Ведом!F108+Ведом!F443 -> 45 | D41: =Ведом!G108+Ведом!G443 -> 0 | E41: =Ведом!H108+Ведом!H443 -> 45 | F41: =Ведом!I108+Ведом!I443 -> 0
A42: 0500 | B42: ЖИЛИЩНО-КОММУНАЛЬНОЕ ХОЗЯЙСТВО | C42: =C43+C77+C44+C51 -> 2066.574 | D42: =D43+D77+D44+D51 -> 0 | E42: =E43+E77+E44+E51 -> 10759.206 | F42: =F43+F77+F44+F51 -> 8258
A43: 501 | B43: Жилищное хозяйство | C43: =Ведом!F119 -> 105 | D43: 0 | E43: =Ведом!H119 -> 105 | F43: 0
A44: 502 | B44: Коммунальное хозяйство | C44: =C45 -> 0 | E44: =E45 -> 8692.632 | F44: =Ведом!I445 -> 8258
...

Sheet ЦСР
A1: 7) Приложение 7 к Решению изложить в следующей редакции:
A2: "Приложение 7
A3: к решению Собрания представителей
A4: муниципального района Клявлинский Самарской области
A5: "О бюджете муниципального района Клявлинский Самарской области
A6: на 2025 год и плановый период 2026 и 2027 годов"
A8: Распределение бюджетных ассигнований по целевым статьям (муниципальным программам и непрограммным направлениям деятельности), группам (группам и подгруппам) видов расходов классификации расходов бюджета муниципального района Клявлинский Самарской области на плановый период 2026-2027 годов.
A10: Наименование | B10: ЦСР | C10: ВР | D10: Сумма, тыс. руб.
D11: 2026 год | F11: 2027 год
D12: Всего | E12: в том числе за счет безвозмезд-ных поступлений имеющие целевое назначение из вышестоящих бюджетов | F12: Всего | G12: в том числе за счет безвозмезд-ных поступлений имеющие целевое назначение из вышестоящих бюджетов
A13: Муниципальная программа "Управление муниципальными финансами и развитие межбюджетных отношений на 2018-2027 годы" | B13: =Ведом!D17 -> 0100000000 | D13: =D14+D16+D18+D20+D23 -> 50282.84 | E13: =E14+E16+E18+E20+E23 -> 310 | F13: =F14+F16+F18+F20+F23 -> 48779.887 | G13: =G14+G16+G18+G20+G23 -> 310
A14: Расходы на выплаты персоналу в целях обеспечения выполнения функций государственными (муниципальными) органами, казенными учреждениями, органами управления государственными внебюджетными фондами | B14: 0100000000 | C14: 100 | D14: =D15 -> 15875.537 | E14: =E15 -> 0 | F14: =F15 -> 15875.537 | G14: =G15 -> 0
A15: Расходы на выплаты персоналу государственных (муниципальных) органов | B15: 0100000000 | C15: 120 | D15: =Ведом!F23+Ведом!F37 -> 15875.537 | E15: =Ведом!G23+Ведом!G37 -> 0 | F15: =Ведом!H23+Ведом!H37 -> 15875.537 | G15: =Ведом!I23+Ведом!I37 -> 0
A16: Закупка товаров, работ и услуг для обеспечения государственных (муниципальных) нужд | B16: 0100000000 | C16: 200 | D16: =D17 -> 418.117 | E16: =E17 -> 0 | F16: =F17 -> 418.117 | G16: =G17 -> 0
A17: Иные закупки товаров, работ и услуг для обеспечения государственных (муниципальных) нужд | B17: 0100000000 | C17: 240 | D17: =Ведом!F25+Ведом!F39 -> 418.117 | E17: =Ведом!G25+Ведом!G39 -> 0 | F17: =Ведом!H25+Ведом!H39 -> 418.117 | G17: =Ведом!I25+Ведом!I39 -> 0
A18: Иные бюджетные ассигнования | B18: 0100000000 | C18: 800 | D18: =D19 -> 0 | E18: =E19 -> 0 | F18: =F19 -> 0 | G18: =G19 -> 0
A19: Уплата налогов, сборов и иных платежей | B19: 0100000000 | C19: 850 | D19: =Ведом!F41 -> 0 | E19: =Ведом!G41 -> 0 | F19: =Ведом!H41 -> 0 | G19: =Ведом!I41 -> 0
A20: Межбюджетные трансферты | B20: 0100000000 | C20: 500 | D20: =D21+D22 -> 31958.498 | E20: =E21+E22 -> 310 | F20: =F21+F22 -> 31647.909 | G20: =G21+G22 -> 310
A21: Дотации | B21: 0100000000 | C21: 510 | D21: =Ведом!F64 -> 19979.05 | E21: =Ведом!G64 -> 310 | F21: =Ведом!H64 -> 19979.05 | G21: =Ведом!I64 -> 310
A22: Иные межбюджетные трансферты | B22: 0100000000 | C22: 540 | D22: =Ведом!F51+Ведом!F70 -> 11979.448 | E22: =Ведом!G51+Ведом!G70 -> 0 | F22: =Ведом!H51+Ведом!H70 -> 11668.859 | G22: =Ведом!I51+Ведом!I70 -> 0
A23: Обслуживание государственного (муниципального) долга | B23: 0100000000 | C23: 700 | D23: =D24 -> 2030.688 | E23: =E24 -> 0 | F23: =F24 -> 838.324 | G23: =G24 -> 0
A24: Обслуживание муниципального долга | B24: 0100000000 | C24: 730 | D24: =Ведом!F58 -> 2030.688 | E24: =Ведом!G58 -> 0 | F24: =Ведом!H58 -> 838.324 | G24: =Ведом!I58 -> 0
A25: Муниципальная программа "Управление имуществом муниципального района Клявлинский на 2019-2027 годы" | B25: =Ведом!D73 -> 0200000000 | D25: =D26+D28+D32+D34+D30 -> 55814.186 | E25: =E26+E28+E32+E34+E30 -> 50891.052 | F25: =F26+F28+F32+F34+F30 -> 38454.754 | G25: =G26+G28+G32+G34+G30 -> 33561.528
A26: Расходы на выплаты персоналу в целях обеспечения выполнения функций государственными (муниципальными) органами, казенными учреждениями, органами управления государственными внебюджетными фондами | B26: 0200000000 | C26: 100 | D26: =D27 -> 3360.515 | E26: =E27 -> 0 | F26: =F27 -> 3360.515 | G26: =G27 -> 0
A27: Расходы на выплаты персоналу государственных (муниципальных) органов | B27: 0200000000 | C27: 120 | D27: =Ведом!F79 -> 3360.515 | E27: =Ведом!G79 -> 0 | F27: =Ведом!H79 -> 3360.515 | G27: =Ведом!I79 -> 0
A28: Закупка товаров, работ и услуг для обеспечения государственных (муниципальных) нужд | B28: 0200000000 | C28: 200 | D28: =D29 -> 1526.922 | E28: =E29 -> 504.303 | F28: =F29 -> 992.711 | G28: =G29 -> 0
A29: Иные закупки товаров, работ и услуг для обеспечения государственных (муниципальных) нужд | B29: 0200000000 | C29: 240 | D29: =Ведом!F81+Ведом!F125+Ведом!F166 -> 1526.922 | E29: =Ведом!G81+Ведом!G125+Ведом!G166 -> 504.303 | F29: =Ведом!H81+Ведом!H125+Ведом!H166 -> 992.711 | G29: =Ведом!I81+Ведом!I125+Ведом!I166 -> 0
A30: Социальное обеспечение и иные выплаты населению | B30: 0200000000 | C30: 300 | D30: =D31 -> 1335.285 | E30: =E31 -> 1335.285 | F30: =F31 -> 0 | G30: =G31 -> 0
A31: Социальные выплаты гражданам, кроме публичных нормативных социальных выплат | B31: 0200000000 | C31: 320 | D31: =Ведом!F257 -> 1335.285 | E31: =Ведом!G257 -> 1335.285 | F31: =Ведом!H257 -> 0 | G31: =Ведом!I257 -> 0
A32: Капитальные вложения в объекты государственной (муниципальной) собственности | B32: 0200000000 | C32: 400 | D32: =D33 -> 49051.464 | E32: =E33 -> 49051.464 | F32: =F33 -> 33561.528 | G32: =G33 -> 33561.528
A33: Бюджетные инвестиции | B33: 0200000000 | C33: 410 | D33: =Ведом!F259 -> 49051.464 | E33: =Ведом!G259 -> 49051.464 | F33: =Ведом!H259 -> 33561.528 | G33: =Ведом!I259 -> 33561.528
A34: Иные бюджетные ассигнования | B34: 0200000000 | C34: 800 | D34: =D35 -> 540 | E34: =E35 -> 0 | F34: =F35 -> 540 | G34: =G35 -> 0
A35: Уплата налогов, сборов и иных платежей | B35: 0200000000 | C35: 850 | D35: =Ведом!F83 -> 540 | E35: =Ведом!G83 -> 0 | F35: =Ведом!H83 -> 540 | G35: =Ведом!I83 -> 0
A36: Муниципальная программа "Развитие сельского хозяйства и регулирования рынков сельскохозяйственной продукции, сырья и продовольствия в муниципальном районе Клявлинский на 2019-2027 годы" | B36: =Ведом!D404 -> 0300000000 | D36: =D37+D39+D41 -> 12880.18 | E36: =E37+E39+E41 -> 9117.458 | F36: =F37+F39+F41 -> 12868.096 | G36: =G37+G39+G41 -> 9105.154
A37: Расходы на выплаты персоналу в целях обеспечения выполнения функций государственными (муниципальными) органами, казенными учреждениями, органами управления государственными внебюджетными фондами | B37: 0300000000 | C37: 100 | D37: =D38 -> 8035.593 | E37: =E38 -> 4436.943 | F37: =F38 -> 8035.411 | G37: =G38 -> 4436.761
A38: Расходы на выплаты персоналу государственных (муниципальных) органов | B38: 0300000000 | C38: 120 | D38: =Ведом!F411 -> 8035.593 | E38: =Ведом!G411 -> 4436.943 | F38: =Ведом!H411 -> 8035.411 | G38: =Ведом!I411 -> 4436.761
A39: Закупка товаров, работ и услуг для обеспечения государственных (муниципальных) нужд | B39: 300000000 | C39: 200 | D39: =D40 -> 739.003 | E39: =E40 -> 574.931 | F39: =F40 -> 727.101 | G39: =G40 -> 562.809
A40: Иные закупки товаров, работ и услуг для обеспечения государственных (муниципальных) нужд | B40: 0300000000 | C40: 240 | D40: =Ведом!F413 -> 739.003 | E40: =Ведом!G413 -> 574.931 | F40: =Ведом!H413 -> 727.101 | G40: =Ведом!I413 -> 562.809
A41: Иные бюджетные ассигнования | B41: 0300000000 | C41: 800 | D41: =D42 -> 4105.584 | E41: =E42 -> 4105.584 | F41: =F42 -> 4105.584 | G41: =G42 -> 4105.584
A42: Субсидии юридическим лицам (кроме некоммерческих организаций), индивидуальным предпринимателям, физическим лицам - производителям товаров, работ, услуг | B42: 0300000000 | C42: 810 | D42: =Ведом!F422 -> 4105.584 | E42: =Ведом!G422 -> 4105.584 | F42: =Ведом!H422 -> 4105.584 | G42: =Ведом!I422 -> 4105.584
...
