Workbook
Name Items: #REF!
Name КВСР: [1]список!$D$2:$D$17
Name НаименДолжн: '[1]Штатное расписание'!$B$8:$B$307
Name Организация: OFFSET([1]список!$E$1,MATCH('[1]Данные по учрежд'!$B$2,[1]список!$E$1:$E$65536,0)-1,1,COUNTIF([1]список!$E$1:$E$65536,'[1]Данные по учрежд'!$B$2),1)
Name СубКОСГУ: [1]список!$B$1:$B$17
Name ТипСредств: [1]список!$C$2:$C$8
Name ЭКР: [1]список!$A$2:$A$21

Sheet Ведом
A1: 4) Приложение 4 к Решению изложить в следующей редакции:
A2: "Приложение 4
A3: к решению Собрания представителей
A4: муниципального района Клявлинский Самарской области
A5: "О бюджете муниципального района Клявлинский Самарской области
A6: на 2025 год и плановый период 2026 и 2027 годов"
A8: 0 | B8: ЕСЛИ(E7=0;ЕСЛИ(D7=0;ЕСЛИ(C7=0;ИНДЕКС(ГРБС!B$1:B$10;ПОИСКПОЗ(A7;ГРБС!A$1:A$10;0));ИНДЕКС(ФКР!B$1:B$113;ПОИСКПОЗ(ЛЕВСИМВ(ЗНАЧЕН(C7);4);ЛЕВСИМВ(ЗНАЧЕН(ФКР!A$1:A$113);4);0)));ИНДЕКС(КЦСР!B$1:B$1024;ПОИСКПОЗ(ЛЕВСИМВ(ЗНАЧЕН(D7);7);ЛЕВСИМВ(ЗНАЧЕН(КЦСР!A$1:A$1024);7);0)));ИНДЕКС(КВР!B$1:B$150;ПОИСКПОЗ(ЛЕВСИМВ(ЗНАЧЕН(E7);3);ЛЕВСИМВ(ЗНАЧЕН(КВР!A$1:A$150);3);0))) | C8: 0 | D8: 0 | E8: 0 | F8: 0 | G8: 0
A9: Ведомственная структура расходов бюджета муниципального района Клявлинский Самарской области на 2025 год
A11: код ГРБС | B11: Наименование главного распорядителя средств муниципального бюджета, раздела подраздела, целевой статьи, групп и подгрупп видов расходов | C11: Рз Пр | D11: ЦСР | E11: ВР | F11: Сумма, тыс. руб.
F13: Всего | G13: в том числе за счет безвозмезд-ных поступлений имеющие целевое назначение из вышестоящих бюджетов
A15: 922 | B15: Муниципальное казенное учреждение "Управление финансами муниципального района Клявлинский Самарской области" | C15: 0 | D15: 0 | E15: 0 | F15: =F16+F26+F34+F41+F47+F51+F55 -> 59234.309 | G15: =G16+G26+G34+G41+G47+G51+G55 -> 384
A16: 0 | B16: Функционирование Правительства Российской Федерации, высших исполнительных органов государственной власти субъектов Российской Федерации, местных администраций | C16: 104 | D16: 0 | E16: 0 | F16: =F17 -> 898.193 | G16: 0
A17: 0 | B17: Муниципальная программа "Управление муниципальными финансами и развитие межбюджетных отношений на 2018-2027 годы" | C17: 104 | D17: 0100000000 | E17: 0 | F17: =F18+F20 -> 898.193 | G17: 0
A18: 0 | B18: Расходы на выплаты персоналу в целях обеспечения выполнения функций государственными (муниципальными) органами, казенными учреждениями, органами управления государственными внебюджетными фондами | C18: 104 | D18: 0100000000 | E18: 100 | F18: =F19 -> 898.193 | G18: 0
A19: 0 | B19: Расходы на выплаты персоналу государственных (муниципальных) органов | C19: 104 | D19: 0100000000 | E19: 120 | F19: 898.193 | G19: 0
A20: 0 | B20: Закупка товаров, работ и услуг для обеспечения государственных (муниципальных) нужд | C20: 104 | D20: 0100000000 | E20: 200 | F20: =F21 -> 0 | G20: 0
A21: 0 | B21: Иные закупки товаров, работ и услуг для обеспечения государственных (муниципальных) нужд | C21: 104 | D21: 0100000000 | E21: 240 | G21: 0
A22: 0 | B22: Иные бюджетные ассигнования | C22: 104 | D22: 0100111000 | E22: 800 | F22: 0 | G22: 0
A23: 0 | B23: Уплата налогов, сборов и иных платежей | C23: 104 | D23: 0100111000 | E23: 850 | F23: 0 | G23: 0
B24: Иные бюджетные ассигнования | C24: 104 | D24: 0100111000 | E24: 800 | F24: =F25 -> 0
B25: Уплата налогов, сборов и иных платежей | C25: 104 | D25: 0100111000 | E25: 850 | F25: 0
A26: 0 | B26: Обеспечение деятельности финансовых, налоговых и таможенных органов и органов финансового (финансово-бюджетного) надзора | C26: 106 | D26: 0 | E26: 0 | F26: =F27 -> 16252.856 | G26: 0
A27: 0 | B27: Муниципальная программа "Управление муниципальными финансами и развитие межбюджетных отношений на 2018-2027 годы" | C27: 106 | D27: 0100000000 | E27: 0 | F27: =F28+F30+F32 -> 16252.856 | G27: 0
A28: 0 | B28: Расходы на выплаты персоналу в целях обеспечения выполнения функций государственными (муниципальными) органами, казенными учреждениями, органами управления государственными внебюджетными фондами | C28: 106 | D28: 0100000000 | E28: 100 | F28: =F29 -> 15718.234 | G28: 0
A29: 0 | B29: Расходы на выплаты персоналу государственных (муниципальных) органов | C29: 106 | D29: 0100000000 | E29: 120 | F29: 15718.234 | G29: 0
A30: 0 | B30: Закупка товаров, работ и услуг для обеспечения государственных (муниципальных) нужд | C30: 106 | D30: 0100000000 | E30: 200 | F30: =F31 -> 534.622 | G30: 0
A31: 0 | B31: Иные закупки товаров, работ и услуг для обеспечения государственных (муниципальных) нужд | C31: 106 | D31: 0100000000 | E31: 240 | F31: 534.622 | G31: 0
A32: 0 | B32: Иные бюджетные ассигнования | C32: 106 | D32: 0100000000 | E32: 800 | F32: =F33 -> 0 | G32: 0
A33: 0 | B33: Уплата налогов, сборов и иных платежей | C33: 106 | D33: 0100000000 | E33: 850 | G33: 0
B34: Другие общегосударственные вопросы | C34: 113 | F34: =F35+F38 -> 350.603
B35: Муниципальная программа "Управление муниципальными финансами и развитие межбюджетных отношений на 2018-2026 годы" | C35: 113 | D35: 0100000000 | F35: =F36 -> 0
B36: Закупка товаров, работ и услуг для обеспечения государственных (муниципальных) нужд | C36: 113 | D36: 0100000000 | E36: 200 | F36: =F37 -> 0
B37: Иные закупки товаров, работ и услуг для обеспечения государственных (муниципальных) нужд | C37: 113 | D37: 0100000000 | E37: 240
B38: Муниципальная программа "Профилактика правонарушений и обеспечение общественной безопасности в муниципальном районе Клявлинский на 2020-2027 годы" | C38: 113 | D38: 4800000000 | F38: =F39 -> 350.603
B39: Закупка товаров, работ и услуг для обеспечения государственных (муниципальных) нужд | C39: 113 | D39: 4800000000 | E39: 200 | F39: =F40 -> 350.603
B40: Иные закупки товаров, работ и услуг для обеспечения государственных (муниципальных) нужд | C40: 113 | D40: 4800000000 | E40: 240 | F40: 350.603
A41: 0 | B41: Общее образование | C41: 702 | D41: 0 | E41: 0 | F41: =F42 -> 0 | G41: 0
A42: 0 | B42: Муниципальная программа "Управление муниципальными финансами и развитие межбюджетных отношений на 2018-2027 годы" | C42: 702 | D42: 0100000000 | E42: 0 | F42: =F45 -> 0 | G42: 0
A43: 0 | B43: Муниципальная программа "Управление муниципальными финансами и развитие межбюджетных отношений на 2014-2020 годы" | C43: 702 | D43: 0100000000 | E43: 0 | F43: 0 | G43: 0
A44: 0 | B44: Межбюджетные трансферты, предоставляемые в бюджеты поселений в соответствии с заключенными соглашениями о передаче органам местного самоуправления поселений полномочий органов органов местного самоуправления муниципального района | C44: 702 | D44: 0100378130 | E44: 0 | F44: 0 | G44: 0
...

Sheet Функц
A1: 9) Приложение 15 к Решению изложить в следующей редакции:
D2: "Приложение 15
D3: к решению Собрания представителей
D4: муниципального района Клявлинский Самарской области
D5: "О бюджете муниципального района Клявлинский Самарской области
D6: на 2025 год и плановый период 2026 и 2027 годов"
A8: КВР | B8: ЕСЛИ(C7=0;ЕСЛИ(B7=0;ИНДЕКС(ФКР!B$1:B$113;ПОИСКПОЗ(ЛЕВСИМВ(ЗНАЧЕН(A7);4);ЛЕВСИМВ(ЗНАЧЕН(ФКР!A$1:A$113);4);0));ИНДЕКС(КЦСР!B$1:B$1024;ПОИСКПОЗ(ЛЕВСИМВ(ЗНАЧЕН(B7);7);ЛЕВСИМВ(ЗНАЧЕН(КЦСР!A$1:A$1024);7);0)));ИНДЕКС(КВР!B$1:B$150;ПОИСКПОЗ(ЛЕВСИМВ(ЗНАЧЕН(C7);3);ЛЕВСИМВ(ЗНАЧЕН(КВР!A$1:A$150);3);0))) | C8: 0 | D8: 0
A9: Распределение бюджетных ассигнований по разделам, подразделам классификации расходов бюджетов муниципального района Клявлинский Самарской области на 2025 год
A11: Рз Пр | B11: Наименование раздела, подраздела расходов | C11: Сумма, тыс. руб.
C13: Всего | D13: в том числе за счет безвозмезд-ных поступлений имеющие целевое назначение из вышестоящих бюджетов
A14: 0100 | B14: ОБЩЕГОСУДАРСТВЕННЫЕ ВОПРОСЫ | C14: =C15+C16+C17+C18+C20+C21 -> 97077.884 | D14: =D15+D16+D17+D18+D20+D21 -> 5872.481
A15: 102 | B15: Функционирование высшего должностного лица субъекта Российской Федерации и муниципального образования | C15: =Ведом!F158 -> 3266.257 | D15: =Ведом!G158 -> 0
A16: 104 | B16: Функционирование Правительства Российской Федерации, высших исполнительных органов государственной власти субъектов Российской Федерации, местных администраций | C16: =Ведом!F162+Ведом!F16 -> 22083.572 | D16: =Ведом!G16+Ведом!G162 -> 1018.386
A17: 105 | B17: Судебная система | C17: =Ведом!F187 -> 5.597 | D17: =Ведом!G187 -> 5.597
A18: 106 | B18: Обеспечение деятельности финансовых, налоговых и таможенных органов и органов финансового (финансово-бюджетного) надзора | C18: =Ведом!F26+Ведом!F361 -> 17857.004 | D18: =Ведом!G26 -> 0
A19: 107 | B19: Обеспечение проведения выборов и референдумов
A20: 111 | B20: Резервные фонды | C20: =Ведом!F192 -> 100 | D20: =Ведом!G192 -> 0
A21: 113 | B21: Другие общегосударственные вопросы | C21: =Ведом!F60+Ведом!F200+Ведом!F34 -> 53765.454 | D21: =Ведом!G60+Ведом!G200+Ведом!G34 -> 4848.498
A22: 113 | B22: Непрограммные направления расходов местного бюджета | C22: =C23+C27 -> 0 | D22: =D23+D27 -> 0
A23: 113 | B23: Закупка товаров, работ и услуг для муниципальных нужд | C23: =C24 -> 0
A24: 113 | B24: Реализация функций управления муниципальным образованием общего значения | C24: =C25 -> 0
A25: 113 | B25: Закупка товаров, работ и услуг для обеспечения государственных (муниципальных) нужд | C25: =C26 -> 0
A26: 113 | B26: Иные закупки товаров, работ и услуг для обеспечения государственных (муниципальных) нужд | C26: =Ведом!F75+Ведом!F239 -> 0
A27: 113 | B27: Иные направления расходов | C27: =C28 -> 0 | D27: =D28 -> 0
A28: 113 | B28: Иные бюджетные ассигнования | C28: =C29 -> 0 | D28: =D29 -> 0
A29: 113 | B29: Исполнение судебных актов | C29: =Ведом!F235 -> 0
A30: 0400 | B30: НАЦИОНАЛЬНАЯ ЭКОНОМИКА | C30: =C31+C32+C33+C34 -> 20791.775 | D30: =D31+D32+D33+D34 -> 10032.392
A31: 405 | B31: Сельское хозяйство и рыболовство | C31: =Ведом!F246 -> 13864.248 | D31: =Ведом!G246 -> 9792.512
A32: 408 | B32: Транспорт | C32: =Ведом!F281 -> 4212.032 | D32: =Ведом!G281 -> 0
A33: 409 | B33: Дорожное хозяйство (дорожные фонды) | C33: =Ведом!F76 -> 2420.495 | D33: =Ведом!G76 -> 0
A34: 412 | B34: Другие вопросы в области национальной экономики | C34: =Ведом!F80+Ведом!F295 -> 295 | D34: =Ведом!G80+Ведом!G295 -> 239.88
A35: 0500 | B35: ЖИЛИЩНО-КОММУНАЛЬНОЕ ХОЗЯЙСТВО | C35: =C36+C37+C38+C39 -> 12866.9 | D35: =D36+D37+D38+D39 -> 8000
A36: 501 | B36: Жилищное хозяйство | C36: =Ведом!F91 -> 415.947 | D36: 0
A37: 502 | B37: Коммунальное хозяйство
A38: 503 | B38: Благоустройство | C38: =Ведом!F101 -> 3923.148 | D38: =Ведом!G101 -> 0
A39: 505 | B39: Другие вопросы в области жилищно-коммунального хозяйства | C39: =Ведом!F305 -> 8527.805 | D39: =Ведом!G305 -> 8000
A40: 600 | B40: Охрана окружающей среды | C40: =C41 -> 25498.021 | D40: =D41 -> 24151.666
A41: 605 | B41: Другие вопросы в области охраны окружающей среды | C41: =Ведом!F102 -> 25498.021 | D41: =Ведом!G102 -> 24151.666
A42: 0700 | B42: ОБРАЗОВАНИЕ | C42: =C43+C51+C52+C53 -> 82686.706 | D42: =D43+D51+D52+D53 -> 23948.997
A43: 701 | B43: Дошкольное образование | C43: =Ведом!F306 -> 8090.934 | D43: =Ведом!G306 -> 0
...

Sheet ЦСР
A2: 6) Приложение 6 к Решению изложить в следующей редакции:
E3: "Приложение 6
E4: к решению Собрания представителей
E5: муниципального района Клявлинский Самарской области
E6: "О бюджете муниципального района Клявлинский Самарской области
E7: на 2025 год и плановый период 2026 и 2027 годов"
A9: Распределение бюджетных ассигнований по целевым статьям (муниципальным программам и непрограммным направлениям деятельности), группам (группам и подгруппам) видов расходов классификации расходов бюджета муниципального района Клявлинский Самарской области на 2025 год.
A11: Наименование | B11: ЦСР | C11: ВР | D11: Сумма, тыс. руб.
D12: Всего | E12: в том числе за счет безвозмезд-ных поступлений имеющие целевое назначение из вышестоящих бюджетов
A13: Муниципальная программа "Управление муниципальными финансами и развитие межбюджетных отношений на 2018-2027 годы" | B13: =Ведом!D17 -> 0100000000 | D13: =D14+D16+D23+D18+D21 -> 58883.706 | E13: =E14+E16+E23+E18+E21 -> 384
A14: Расходы на выплаты персоналу в целях обеспечения выполнения функций государственными (муниципальными) органами, казенными учреждениями, органами управления государственными внебюджетными фондами | B14: 0100000000 | C14: 100 | D14: =D15 -> 16616.427 | E14: =E15 -> 0
A15: Расходы на выплаты персоналу государственных (муниципальных) органов | B15: 0100000000 | C15: 120 | D15: =Ведом!F19+Ведом!F29 -> 16616.427 | E15: =Ведом!G19+Ведом!G29 -> 0
A16: Закупка товаров, работ и услуг для обеспечения государственных (муниципальных) нужд | B16: 0100000000 | C16: 200 | D16: =D17 -> 534.622 | E16: =E17 -> 0
A17: Иные закупки товаров, работ и услуг для обеспечения государственных (муниципальных) нужд | B17: 0100000000 | C17: 240 | D17: =Ведом!F21+Ведом!F31+Ведом!F37 -> 534.622 | E17: =Ведом!G21+Ведом!G31+Ведом!G37 -> 0
A18: Межбюджетные трансферты | B18: 0100000000 | C18: 500 | D18: =D19+D20 -> 38436.444 | E18: =E19+E20 -> 384
A19: Дотации | B19: 0100000000 | C19: 510 | D19: =Ведом!F54 -> 24909 | E19: =Ведом!G54+Ведом!G58 -> 384
A20: Иные межбюджетные трансферты | B20: 0100000000 | C20: 540 | D20: =Ведом!F46+Ведом!F58 -> 13527.444 | E20: =Ведом!G46 -> 0
A21: Обслуживание государственного (муниципального) долга | B21: 0100000000 | C21: 700 | D21: =D22 -> 3296.213 | E21: =E22 -> 0
A22: Обслуживание муниципального долга | B22: 0100000000 | C22: 730 | D22: =Ведом!F50 -> 3296.213 | E22: =Ведом!G50 -> 0
A23: Иные бюджетные ассигнования | B23: 0100000000 | C23: 800 | D23: =D24 -> 0 | E23: =E24 -> 0
A24: Уплата налогов, сборов и иных платежей | B24: 0100000000 | C24: 850 | D24: =Ведом!F33 -> 0 | E24: =Ведом!G33 -> 0
A25: Муниципальная программа "Управление имуществом муниципального района Клявлинский на 2019-2027 годы" | B25: =Ведом!D61 -> 0200000000 | D25: =D26+D28+D32+D34+D30 -> 70855.877 | E25: =E26+E28+E32+E34+E30 -> 63335.089
A26: Расходы на выплаты персоналу в целях обеспечения выполнения функций государственными (муниципальными) органами, казенными учреждениями, органами управления государственными внебюджетными фондами | B26: 0200000000 | C26: 100 | D26: =D27 -> 3479.492 | E26: =E27 -> 0
A27: Расходы на выплаты персоналу государственных (муниципальных) органов | B27: 0200000000 | C27: 120 | D27: =Ведом!F63 -> 3479.492 | E27: =Ведом!G63 -> 0
A28: Закупка товаров, работ и услуг для обеспечения государственных (муниципальных) нужд | B28: 0200000000 | C28: 200 | D28: =D29 -> 27794.554 | E28: =E29 -> 24391.546
A29: Иные закупки товаров, работ и услуг для обеспечения государственных (муниципальных) нужд | B29: 0200000000 | C29: 240 | D29: =Ведом!F65+Ведом!F97+Ведом!F83+Ведом!F105 -> 27794.554 | E29: =Ведом!G65+Ведом!G97+Ведом!G83+Ведом!G105 -> 24391.546
A30: Социальное обеспечение и иные выплаты населению | B30: 0200000000 | C30: 300 | D30: =D31 -> 5382.015 | E30: =E31 -> 5382.015
A31: Социальные выплаты гражданам, кроме публичных нормативных социальных выплат | B31: 0200000000 | C31: 320 | D31: =Ведом!F130 -> 5382.015 | E31: =Ведом!G130 -> 5382.015
A32: Капитальные вложения в объекты государственной (муниципальной) собственности | B32: 0200000000 | C32: 400 | D32: =D33 -> 33561.528 | E32: =E33 -> 33561.528
A33: Бюджетные инвестиции | B33: 0200000000 | C33: 410 | D33: =Ведом!F132 -> 33561.528 | E33: =Ведом!G132 -> 33561.528
A34: Иные бюджетные ассигнования | B34: 0200000000 | C34: 800 | D34: =D35 -> 638.288 | E34: =E35 -> 0
A35: Уплата налогов, сборов и иных платежей | B35: 0200000000 | C35: 850 | D35: =Ведом!F67 -> 638.288 | E35: =Ведом!G67 -> 0
A36: Муниципальная программа "Развитие сельского хозяйства и регулирования рынков сельскохозяйственной продукции, сырья и продовольствия в муниципальном районе Клявлинский на 2019-2027 годы" | B36: =Ведом!D247 -> 0300000000 | D36: =D37+D39+D41 -> 13864.248 | E36: =E37+E39+E41 -> 9792.512
A37: Расходы на выплаты персоналу в целях обеспечения выполнения функций государственными (муниципальными) органами, казенными учреждениями, органами управления государственными внебюджетными фондами | B37: 0300000000 | C37: 100 | D37: =D38 -> 8339.355 | E37: =E38 -> 4437.125
A38: Расходы на выплаты персоналу государственных (муниципальных) органов | B38: 0300000000 | C38: 120 | D38: =Ведом!F254 -> 8339.355 | E38: =Ведом!G254 -> 4437.125
A39: Закупка товаров, работ и услуг для обеспечения государственных (муниципальных) нужд | B39: 0300000000 | C39: 200 | D39: =D40 -> 756.559 | E39: =E40 -> 587.053
A40: Иные закупки товаров, работ и услуг для обеспечения государственных (муниципальных) нужд | B40: 0300000000 | C40: 240 | D40: =Ведом!F256 -> 756.559 | E40: =Ведом!G256 -> 587.053
A41: Иные бюджетные ассигнования | B41: 0300000000 | C41: 800 | D41: =D42 -> 4768.334 | E41: =E42 -> 4768.334
A42: Субсидии юридическим лицам (кроме некоммерческих организаций), индивидуальным предпринимателям, физическим лицам - производителям товаров, работ, услуг | B42: 0300000000 | C42: 810 | D42: =Ведом!F271 -> 4768.334 | E42: =Ведом!G271 -> 4768.334
A43: Муниципальная программа "Снижение административных барьеров, повышение качества предоставления государственных и муниципальных услуг" на базе "Многофункционального центра предоставления государственных и муниципальных услуг" муниципального района Клявлинский Самарской области на 2012-2027 годы" | B43: =Ведом!D68 -> 0400000000 | D43: =D44 -> 30062.317 | E43: =E44 -> 0
...
